BEGIN:VCALENDAR
VERSION:2.0
PRODID:-//ChamberMaster//Event Calendar 2.0//EN
METHOD:PUBLISH
X-PUBLISHED-TTL:P3D
REFRESH-INTERVAL:P3D
CALSCALE:GREGORIAN
BEGIN:VEVENT
DTSTART:20260409T010000Z
DTEND:20260409T040000Z
X-MICROSOFT-CDO-ALLDAYEVENT:FALSE
SUMMARY:Wire Wrapping: Basic Pendant
DESCRIPTION:Learn the art of wire wrapping in this fun\, one-night workshop! Discover how to frame a gemstone or cabochon with wire and add your own decorative touches. You'll practice essential techniques like creating secure wraps\, coiling\, and shaping wire for elegant designs. By the end of class\, you'll take home a beautiful handmade pendant and the skills to keep creating your own wire jewelry.
X-ALT-DESC;FMTTYPE=text/html:Learn the art of wire wrapping in this fun\, one-night workshop! Discover how to frame a gemstone or cabochon with wire and add your own decorative touches. You&rsquo\;ll practice essential techniques like creating secure wraps\, coiling\, and shaping wire for elegant designs. By the end of class\, you&rsquo\;ll take home a beautiful handmade pendant and the skills to keep creating your own wire jewelry.
LOCATION:283 Hubbard Ave Suite #102 Coeur d'Alene\, ID 83835 United States
UID:e.405.37564
SEQUENCE:3
DTSTAMP:20260421T051914Z
URL:http://postfallschamber.chambermaster.com/events/details/wire-wrapping-basic-pendant-04-08-2026-37564
END:VEVENT

END:VCALENDAR
